BEGIN:VCALENDAR
VERSION:2.0
PRODID:-//Alpine Arizona - ECPv5.5.0//NONSGML v1.0//EN
CALSCALE:GREGORIAN
METHOD:PUBLISH
X-WR-CALNAME:Alpine Arizona
X-ORIGINAL-URL:
X-WR-CALDESC:Events for Alpine Arizona
BEGIN:VTIMEZONE
TZID:America/Phoenix
BEGIN:STANDARD
TZOFFSETFROM:-0700
TZOFFSETTO:-0700
TZNAME:MST
DTSTART:20240101T000000
END:STANDARD
END:VTIMEZONE
BEGIN:VEVENT
DTSTART;TZID=America/Phoenix:20240525T060000
DTEND;TZID=America/Phoenix:20240525T100000
DTSTAMP:20260419T083543
CREATED:20240312T215818Z
LAST-MODIFIED:20240312T215818Z
UID:4328-1716616800-1716631200@
SUMMARY:Alpine Fire District Pancake Breakfast
DESCRIPTION:
URL:/event/alpine-fire-district-pancake-breakfast-4/
LOCATION:Alpine Fire Department\, US Hwy 180\, Alpine
END:VEVENT
BEGIN:VEVENT
DTSTART;TZID=America/Phoenix:20240525T090000
DTEND;TZID=America/Phoenix:20240525T160000
DTSTAMP:20260419T083543
CREATED:20240312T215912Z
LAST-MODIFIED:20240607T201513Z
UID:4330-1716627600-1716652800@
SUMMARY:Alpine Arts & Crafts Festival
DESCRIPTION:
URL:/event/alpine-arts-crafts-festival-7/
LOCATION:Mellody Field\, Main Street\, Alpine
END:VEVENT
END:VCALENDAR