BEGIN:VCALENDAR
VERSION:2.0
PRODID:-//Alpine Arizona - ECPv5.5.0//NONSGML v1.0//EN
CALSCALE:GREGORIAN
METHOD:PUBLISH
X-WR-CALNAME:Alpine Arizona
X-ORIGINAL-URL:
X-WR-CALDESC:Events for Alpine Arizona
BEGIN:VTIMEZONE
TZID:America/Phoenix
BEGIN:STANDARD
TZOFFSETFROM:-0700
TZOFFSETTO:-0700
TZNAME:MST
DTSTART:20240101T000000
END:STANDARD
END:VTIMEZONE
BEGIN:VEVENT
DTSTART;TZID=America/Phoenix:20240517T100000
DTEND;TZID=America/Phoenix:20240517T110000
DTSTAMP:20260419T082837
CREATED:20240312T215018Z
LAST-MODIFIED:20240312T215018Z
UID:4314-1715940000-1715943600@
SUMMARY:Book Discussion Group - The Boys in the Boat
DESCRIPTION:Title: The Boys in the Boat\nAuthor: Daniel James Brown\ne-book & audiobook available
URL:/event/book-discussion-group-the-boys-in-the-boat/
LOCATION:Alpine Library
END:VEVENT
END:VCALENDAR