BEGIN:VCALENDAR
VERSION:2.0
PRODID:-//Alpine Arizona - ECPv5.5.0//NONSGML v1.0//EN
CALSCALE:GREGORIAN
METHOD:PUBLISH
X-WR-CALNAME:Alpine Arizona
X-ORIGINAL-URL:
X-WR-CALDESC:Events for Alpine Arizona
BEGIN:VTIMEZONE
TZID:America/Phoenix
BEGIN:STANDARD
TZOFFSETFROM:-0700
TZOFFSETTO:-0700
TZNAME:MST
DTSTART:20240101T000000
END:STANDARD
END:VTIMEZONE
BEGIN:VEVENT
DTSTART;TZID=America/Phoenix:20240506T080000
DTEND;TZID=America/Phoenix:20240506T120000
DTSTAMP:20260419T083527
CREATED:20240312T215557Z
LAST-MODIFIED:20240414T043728Z
UID:4324-1714982400-1714996800@
SUMMARY:Adopt A Highway
DESCRIPTION:Meet at the Community Center to clean the Alliance mile
URL:/event/adopt-a-highway/
LOCATION:Alpine Community Center\, Alpine
END:VEVENT
END:VCALENDAR