BEGIN:VCALENDAR
VERSION:2.0
PRODID:-//Alpine Arizona - ECPv5.5.0//NONSGML v1.0//EN
CALSCALE:GREGORIAN
METHOD:PUBLISH
X-WR-CALNAME:Alpine Arizona
X-ORIGINAL-URL:
X-WR-CALDESC:Events for Alpine Arizona
BEGIN:VTIMEZONE
TZID:America/Phoenix
BEGIN:STANDARD
TZOFFSETFROM:-0700
TZOFFSETTO:-0700
TZNAME:MST
DTSTART:20230101T000000
END:STANDARD
END:VTIMEZONE
BEGIN:VEVENT
DTSTART;TZID=America/Phoenix:20231014T090000
DTEND;TZID=America/Phoenix:20231014T150000
DTSTAMP:20260419T212552
CREATED:20231002T035433Z
LAST-MODIFIED:20231002T035433Z
UID:4279-1697274000-1697295600@
SUMMARY:Holidayz Bazaar
DESCRIPTION:
URL:/event/holidayz-bazaar-2/
LOCATION:Nutrioso Community Center
END:VEVENT
END:VCALENDAR