BEGIN:VCALENDAR
VERSION:2.0
PRODID:-//Alpine Arizona - ECPv5.5.0//NONSGML v1.0//EN
CALSCALE:GREGORIAN
METHOD:PUBLISH
X-WR-CALNAME:Alpine Arizona
X-ORIGINAL-URL:
X-WR-CALDESC:Events for Alpine Arizona
BEGIN:VTIMEZONE
TZID:America/Phoenix
BEGIN:STANDARD
TZOFFSETFROM:-0700
TZOFFSETTO:-0700
TZNAME:MST
DTSTART:20220101T000000
END:STANDARD
END:VTIMEZONE
BEGIN:VEVENT
DTSTART;VALUE=DATE:20220812
DTEND;VALUE=DATE:20220814
DTSTAMP:20260423T005020
CREATED:20220722T090825Z
LAST-MODIFIED:20220722T090825Z
UID:4179-1660262400-1660435199@
SUMMARY:2022 Annual Foray of the Arizona Mushroom Society
DESCRIPTION:he Society is hosting FREE\,\nopen to the public\, presentations at 5:00 pm at the Alpine Community Center both Friday and Saturday.\nMore information is available on the website for the organization\, arizonamushroomsociety.org.
URL:/event/2022-annual-foray-of-the-arizona-mushroom-society/
END:VEVENT
BEGIN:VEVENT
DTSTART;VALUE=DATE:20220813
DTEND;VALUE=DATE:20220815
DTSTAMP:20260423T005020
CREATED:20220320T004136Z
LAST-MODIFIED:20220320T004136Z
UID:4131-1660348800-1660521599@
SUMMARY:Jampak Bluegrass Festival
DESCRIPTION:
URL:/event/jampak-bluegrass-festival/
LOCATION:Foxfire at Alpine\, Main Street\, Alpine
ORGANIZER;CN="Foxfire%20at%20Alpine":MAILTO:lisamariemalcolm@gmail.com
END:VEVENT
END:VCALENDAR