BEGIN:VCALENDAR
VERSION:2.0
PRODID:-//Alpine Arizona - ECPv5.5.0//NONSGML v1.0//EN
CALSCALE:GREGORIAN
METHOD:PUBLISH
X-WR-CALNAME:Alpine Arizona
X-ORIGINAL-URL:
X-WR-CALDESC:Events for Alpine Arizona
BEGIN:VTIMEZONE
TZID:America/Phoenix
BEGIN:STANDARD
TZOFFSETFROM:-0700
TZOFFSETTO:-0700
TZNAME:MST
DTSTART:20220101T000000
END:STANDARD
END:VTIMEZONE
BEGIN:VEVENT
DTSTART;VALUE=DATE:20220715
DTEND;VALUE=DATE:20220718
DTSTAMP:20260420T220444
CREATED:20220320T003933Z
LAST-MODIFIED:20220320T003933Z
UID:4125-1657843200-1658102399@
SUMMARY:White Mountain Musicians Festival
DESCRIPTION:Friday night\, all day Saturday\, and Sunday morning “Cowboy Church” and Gospel music
URL:/event/white-mountain-musicians-festival/
LOCATION:Foxfire at Alpine\, Main Street\, Alpine
ORGANIZER;CN="Foxfire%20at%20Alpine":MAILTO:lisamariemalcolm@gmail.com
END:VEVENT
END:VCALENDAR