BEGIN:VCALENDAR
VERSION:2.0
PRODID:-//Alpine Arizona - ECPv5.5.0//NONSGML v1.0//EN
CALSCALE:GREGORIAN
METHOD:PUBLISH
X-WR-CALNAME:Alpine Arizona
X-ORIGINAL-URL:
X-WR-CALDESC:Events for Alpine Arizona
BEGIN:VTIMEZONE
TZID:America/Phoenix
BEGIN:STANDARD
TZOFFSETFROM:-0700
TZOFFSETTO:-0700
TZNAME:MST
DTSTART:20210101T000000
END:STANDARD
END:VTIMEZONE
BEGIN:VEVENT
DTSTART;TZID=America/Phoenix:20210703T130000
DTEND;TZID=America/Phoenix:20210703T160000
DTSTAMP:20260422T105347
CREATED:20210608T011756Z
LAST-MODIFIED:20210608T011756Z
UID:4078-1625317200-1625328000@
SUMMARY:Vinyl Tap Concert
DESCRIPTION:Vinyl Tap band is offering a free concert in Mellody Field on Main Street in the early afternoon. Bring your chairs\, snacks\, and refreshments.
URL:/event/vinyl-tap-concert/
LOCATION:Mellody Field\, Main Street\, Alpine
END:VEVENT
END:VCALENDAR