BEGIN:VCALENDAR
VERSION:2.0
PRODID:-//Alpine Arizona - ECPv5.5.0//NONSGML v1.0//EN
CALSCALE:GREGORIAN
METHOD:PUBLISH
X-WR-CALNAME:Alpine Arizona
X-ORIGINAL-URL:
X-WR-CALDESC:Events for Alpine Arizona
BEGIN:VTIMEZONE
TZID:America/Phoenix
BEGIN:STANDARD
TZOFFSETFROM:-0700
TZOFFSETTO:-0700
TZNAME:MST
DTSTART:20230101T000000
END:STANDARD
END:VTIMEZONE
BEGIN:VEVENT
DTSTART;TZID=America/Phoenix:20231104T130000
DTEND;TZID=America/Phoenix:20231104T150000
DTSTAMP:20260419T155637
CREATED:20231002T035525Z
LAST-MODIFIED:20231027T173219Z
UID:4281-1699102800-1699110000@
SUMMARY:The Annual Alpine Thanksgiving Dinner
DESCRIPTION:
URL:/event/the-annual-alpine-thanksgiving-dinner/
LOCATION:Alpine Community Center\, Alpine
END:VEVENT
END:VCALENDAR