BEGIN:VCALENDAR
VERSION:2.0
PRODID:-//Alpine Arizona - ECPv5.5.0//NONSGML v1.0//EN
CALSCALE:GREGORIAN
METHOD:PUBLISH
X-WR-CALNAME:Alpine Arizona
X-ORIGINAL-URL:
X-WR-CALDESC:Events for Alpine Arizona
BEGIN:VTIMEZONE
TZID:America/Phoenix
BEGIN:STANDARD
TZOFFSETFROM:-0700
TZOFFSETTO:-0700
TZNAME:MST
DTSTART:20210101T000000
END:STANDARD
END:VTIMEZONE
BEGIN:VEVENT
DTSTART;TZID=America/Phoenix:20210806T160000
DTEND;TZID=America/Phoenix:20210806T170000
DTSTAMP:20260422T074515
CREATED:20210331T174031Z
LAST-MODIFIED:20210331T174031Z
UID:4033-1628265600-1628269200@
SUMMARY:Parenting and Respect
DESCRIPTION:The Bridge Counseling Consulting & Mediation and The Arizona Restoration Therapy Clinic will be hosting the following  Free ZOOM 1 hour presentations for Alpine as a show of our support of the Alpine Alliance and the great people of Alpine\, Arizona.       \nParenting and Respect. This will only be available for 30 people and it will be interactive and participants are welcome to bring questions.  \nAudience: Single parents\, Parents and Teachers.  \nPlease reserve your spot by emailing: edwardcallirgos@thebridgeccm.com or calling at 4802037165
URL:/event/parenting-and-respect/
LOCATION:The Bridge Counseling Consulting & Mediation and The Arizona Restoration Therapy Clinic
END:VEVENT
END:VCALENDAR