BEGIN:VCALENDAR
VERSION:2.0
PRODID:-//Alpine Arizona - ECPv5.5.0//NONSGML v1.0//EN
CALSCALE:GREGORIAN
METHOD:PUBLISH
X-WR-CALNAME:Alpine Arizona
X-ORIGINAL-URL:
X-WR-CALDESC:Events for Alpine Arizona
BEGIN:VTIMEZONE
TZID:America/Phoenix
BEGIN:STANDARD
TZOFFSETFROM:-0700
TZOFFSETTO:-0700
TZNAME:MST
DTSTART:20190101T000000
END:STANDARD
END:VTIMEZONE
BEGIN:VEVENT
DTSTART;VALUE=DATE:20190921
DTEND;VALUE=DATE:20190922
DTSTAMP:20260423T212650
CREATED:20190327T235932Z
LAST-MODIFIED:20190327T235932Z
UID:3485-1569024000-1569110399@
SUMMARY:Octoberfest
DESCRIPTION:
URL:/event/octoberfest/
LOCATION:Foxfire at Alpine\, Main Street\, Alpine
END:VEVENT
END:VCALENDAR