BEGIN:VCALENDAR
VERSION:2.0
PRODID:-//Alpine Arizona - ECPv5.5.0//NONSGML v1.0//EN
CALSCALE:GREGORIAN
METHOD:PUBLISH
X-WR-CALNAME:Alpine Arizona
X-ORIGINAL-URL:
X-WR-CALDESC:Events for Alpine Arizona
BEGIN:VTIMEZONE
TZID:America/Phoenix
BEGIN:STANDARD
TZOFFSETFROM:-0700
TZOFFSETTO:-0700
TZNAME:MST
DTSTART:20190101T000000
END:STANDARD
END:VTIMEZONE
BEGIN:VEVENT
DTSTART;VALUE=DATE:20191011
DTEND;VALUE=DATE:20191012
DTSTAMP:20260423T174803
CREATED:20190328T000152Z
LAST-MODIFIED:20190328T000152Z
UID:3489-1570752000-1570752000@
SUMMARY:Nutrioso Holidayz Craft Fair
DESCRIPTION:
URL:/event/nutrioso-holidayz-craft-fair-3/
LOCATION:Nutrioso Community Center
END:VEVENT
END:VCALENDAR