BEGIN:VCALENDAR
VERSION:2.0
PRODID:-//Alpine Arizona - ECPv5.5.0//NONSGML v1.0//EN
CALSCALE:GREGORIAN
METHOD:PUBLISH
X-WR-CALNAME:Alpine Arizona
X-ORIGINAL-URL:
X-WR-CALDESC:Events for Alpine Arizona
BEGIN:VTIMEZONE
TZID:America/Phoenix
BEGIN:STANDARD
TZOFFSETFROM:-0700
TZOFFSETTO:-0700
TZNAME:MST
DTSTART:20220101T000000
END:STANDARD
END:VTIMEZONE
BEGIN:VEVENT
DTSTART;VALUE=DATE:20220730
DTEND;VALUE=DATE:20220731
DTSTAMP:20260420T144818
CREATED:20220320T004017Z
LAST-MODIFIED:20220320T004017Z
UID:4127-1659139200-1659225599@
SUMMARY:Nutrioso BBQ and Dance
DESCRIPTION:
URL:/event/nutrioso-bbq-and-dance-5/
LOCATION:Nutrioso Community Center
END:VEVENT
END:VCALENDAR