BEGIN:VCALENDAR
VERSION:2.0
PRODID:-//Alpine Arizona - ECPv5.5.0//NONSGML v1.0//EN
CALSCALE:GREGORIAN
METHOD:PUBLISH
X-WR-CALNAME:Alpine Arizona
X-ORIGINAL-URL:
X-WR-CALDESC:Events for Alpine Arizona
BEGIN:VTIMEZONE
TZID:America/Phoenix
BEGIN:STANDARD
TZOFFSETFROM:-0700
TZOFFSETTO:-0700
TZNAME:MST
DTSTART:20230101T000000
END:STANDARD
END:VTIMEZONE
BEGIN:VEVENT
DTSTART;TZID=America/Phoenix:20230318T150000
DTEND;TZID=America/Phoenix:20230318T200000
DTSTAMP:20260419T120906
CREATED:20230312T223841Z
LAST-MODIFIED:20230312T223841Z
UID:4189-1679151600-1679169600@
SUMMARY:Mulloy’s Public House St. Patrick’s Day Celebration
DESCRIPTION:
URL:/event/mulloys-public-house-st-patricks-day-celebration-2/
LOCATION:Mulloy’s Public House\, 41633 Hwy 180 (11.05 mi)\, Nutrioso\, AZ\, 85932
END:VEVENT
END:VCALENDAR