BEGIN:VCALENDAR
VERSION:2.0
PRODID:-//Alpine Arizona - ECPv5.5.0//NONSGML v1.0//EN
CALSCALE:GREGORIAN
METHOD:PUBLISH
X-WR-CALNAME:Alpine Arizona
X-ORIGINAL-URL:
X-WR-CALDESC:Events for Alpine Arizona
BEGIN:VTIMEZONE
TZID:America/Phoenix
BEGIN:STANDARD
TZOFFSETFROM:-0700
TZOFFSETTO:-0700
TZNAME:MST
DTSTART:20220101T000000
END:STANDARD
END:VTIMEZONE
BEGIN:VEVENT
DTSTART;TZID=America/Phoenix:20220723T100000
DTEND;TZID=America/Phoenix:20220723T200000
DTSTAMP:20260420T201828
CREATED:20220722T090316Z
LAST-MODIFIED:20220722T090316Z
UID:4170-1658570400-1658606400@
SUMMARY:Luna Rodeo
DESCRIPTION:With the motto\, “The best little rodeo in the west” this is one not to miss. The Luna parade starts at 10:00\, the rodeo at 1:00\, and the dance at 8:00. More information is available at lunarodeo.com.
URL:/event/luna-rodeo-4/
LOCATION:Luna Community Center\, Luna\, NM
END:VEVENT
END:VCALENDAR