BEGIN:VCALENDAR
VERSION:2.0
PRODID:-//Alpine Arizona - ECPv5.5.0//NONSGML v1.0//EN
CALSCALE:GREGORIAN
METHOD:PUBLISH
X-WR-CALNAME:Alpine Arizona
X-ORIGINAL-URL:
X-WR-CALDESC:Events for Alpine Arizona
BEGIN:VTIMEZONE
TZID:America/Phoenix
BEGIN:STANDARD
TZOFFSETFROM:-0700
TZOFFSETTO:-0700
TZNAME:MST
DTSTART:20220101T000000
END:STANDARD
END:VTIMEZONE
BEGIN:VEVENT
DTSTART;TZID=America/Phoenix:20220702T100000
DTEND;TZID=America/Phoenix:20220702T110000
DTSTAMP:20260421T072530
CREATED:20220320T003606Z
LAST-MODIFIED:20220320T003606Z
UID:4117-1656756000-1656759600@
SUMMARY:Independence Day Parade
DESCRIPTION:
URL:/event/independence-day-parade-6/
LOCATION:Main Street\, Alpine
END:VEVENT
END:VCALENDAR