BEGIN:VCALENDAR
VERSION:2.0
PRODID:-//Alpine Arizona - ECPv5.5.0//NONSGML v1.0//EN
CALSCALE:GREGORIAN
METHOD:PUBLISH
X-WR-CALNAME:Alpine Arizona
X-ORIGINAL-URL:
X-WR-CALDESC:Events for Alpine Arizona
BEGIN:VTIMEZONE
TZID:America/Phoenix
BEGIN:STANDARD
TZOFFSETFROM:-0700
TZOFFSETTO:-0700
TZNAME:MST
DTSTART:20210101T000000
END:STANDARD
END:VTIMEZONE
BEGIN:VEVENT
DTSTART;TZID=America/Phoenix:20210703T130000
DTEND;TZID=America/Phoenix:20210703T150000
DTSTAMP:20260422T124839
CREATED:20210502T200539Z
LAST-MODIFIED:20210502T200539Z
UID:4043-1625317200-1625324400@
SUMMARY:Cornhole Tournament
DESCRIPTION:Each team entrance fee is $40.00. All proceeds will go to the 8th grade field-trip program. Prizes will be announced at a later date. Get you team ready and have fun.Contact Tracey Coffen at: Tcoffen@alpine.k12.az.us to register. The tournament will be in the commons of Victoria Station (faux ghost town) at Alpine Buckboard Cabins.  Hope to see you there. Just in case of rain we’ll head to the barn.
URL:/event/cornhole-tournament/
LOCATION:Alpine Buckboard Cabins\, 2 County Road 2141\, PO Box 1094\, Alpine\, AZ\, 85920
END:VEVENT
END:VCALENDAR