BEGIN:VCALENDAR
VERSION:2.0
PRODID:-//Alpine Arizona - ECPv5.5.0//NONSGML v1.0//EN
CALSCALE:GREGORIAN
METHOD:PUBLISH
X-WR-CALNAME:Alpine Arizona
X-ORIGINAL-URL:
X-WR-CALDESC:Events for Alpine Arizona
BEGIN:VTIMEZONE
TZID:America/Phoenix
BEGIN:STANDARD
TZOFFSETFROM:-0700
TZOFFSETTO:-0700
TZNAME:MST
DTSTART:20200101T000000
END:STANDARD
END:VTIMEZONE
BEGIN:VEVENT
DTSTART;TZID=America/Phoenix:20201212T173000
DTEND;TZID=America/Phoenix:20201212T183000
DTSTAMP:20260423T094319
CREATED:20201210T223517Z
LAST-MODIFIED:20201210T223517Z
UID:4027-1607794200-1607797800@
SUMMARY:Christmas Tree Lighting
DESCRIPTION:The Alpine Fire District will turn the lights on the Christmas Tree this Saturday (December 12) at 6:00 pm. The tree is located on the music stand in Mellody Field along Main Street. We ask that you watch the lighting from the safety and warmth of your car parked along Main Street. The Alpine Alliance will offer free hot chocolate in front of the field starting around 5:30 – please wear masks and social distance when getting your hot chocolate.\nHappy Holidays!
URL:/event/christmas-tree-lighting/
LOCATION:Mellody Field\, Main Street\, Alpine
END:VEVENT
END:VCALENDAR