BEGIN:VCALENDAR
VERSION:2.0
PRODID:-//Alpine Arizona - ECPv5.5.0//NONSGML v1.0//EN
CALSCALE:GREGORIAN
METHOD:PUBLISH
X-WR-CALNAME:Alpine Arizona
X-ORIGINAL-URL:
X-WR-CALDESC:Events for Alpine Arizona
BEGIN:VTIMEZONE
TZID:America/Phoenix
BEGIN:STANDARD
TZOFFSETFROM:-0700
TZOFFSETTO:-0700
TZNAME:MST
DTSTART:20230101T000000
END:STANDARD
END:VTIMEZONE
BEGIN:VEVENT
DTSTART;TZID=America/Phoenix:20231209T180000
DTEND;TZID=America/Phoenix:20231209T190000
DTSTAMP:20260419T122755
CREATED:20231207T211805Z
LAST-MODIFIED:20231207T211805Z
UID:4304-1702144800-1702148400@
SUMMARY:Christmas Tree Lighting
DESCRIPTION:
URL:/event/christmas-tree-lighting-2/
LOCATION:Mellody Field\, Main Street\, Alpine
END:VEVENT
END:VCALENDAR