BEGIN:VCALENDAR
VERSION:2.0
PRODID:-//Alpine Arizona - ECPv5.5.0//NONSGML v1.0//EN
CALSCALE:GREGORIAN
METHOD:PUBLISH
X-WR-CALNAME:Alpine Arizona
X-ORIGINAL-URL:
X-WR-CALDESC:Events for Alpine Arizona
BEGIN:VTIMEZONE
TZID:America/Phoenix
BEGIN:STANDARD
TZOFFSETFROM:-0700
TZOFFSETTO:-0700
TZNAME:MST
DTSTART:20190101T000000
END:STANDARD
END:VTIMEZONE
BEGIN:VEVENT
DTSTART;TZID=America/Phoenix:20190831T090000
DTEND;TZID=America/Phoenix:20190831T150000
DTSTAMP:20260424T024720
CREATED:20190327T235351Z
LAST-MODIFIED:20190327T235351Z
UID:3475-1567242000-1567263600@
SUMMARY:Bush Valley Craft Club Christmas Bazaar
DESCRIPTION:
URL:/event/bush-valley-craft-club-christmas-bazaar-7/
LOCATION:Alpine Community Center\, Alpine
END:VEVENT
END:VCALENDAR