BEGIN:VCALENDAR
VERSION:2.0
PRODID:-//Alpine Arizona - ECPv5.5.0//NONSGML v1.0//EN
CALSCALE:GREGORIAN
METHOD:PUBLISH
X-WR-CALNAME:Alpine Arizona
X-ORIGINAL-URL:
X-WR-CALDESC:Events for Alpine Arizona
BEGIN:VTIMEZONE
TZID:America/Phoenix
BEGIN:STANDARD
TZOFFSETFROM:-0700
TZOFFSETTO:-0700
TZNAME:MST
DTSTART:20230101T000000
END:STANDARD
END:VTIMEZONE
BEGIN:VEVENT
DTSTART;TZID=America/Phoenix:20230421T093000
DTEND;TZID=America/Phoenix:20230421T103000
DTSTAMP:20260419T075453
CREATED:20230331T014427Z
LAST-MODIFIED:20230331T014427Z
UID:4250-1682069400-1682073000@
SUMMARY:Book Club
DESCRIPTION:The first book for discussion is The Paper Daughters of China Town by Heather Moore.
URL:/event/book-club/
LOCATION:Alpine Library
END:VEVENT
END:VCALENDAR