BEGIN:VCALENDAR
VERSION:2.0
PRODID:-//Alpine Arizona - ECPv5.5.0//NONSGML v1.0//EN
CALSCALE:GREGORIAN
METHOD:PUBLISH
X-WR-CALNAME:Alpine Arizona
X-ORIGINAL-URL:
X-WR-CALDESC:Events for Alpine Arizona
BEGIN:VTIMEZONE
TZID:America/Phoenix
BEGIN:STANDARD
TZOFFSETFROM:-0700
TZOFFSETTO:-0700
TZNAME:MST
DTSTART:20220101T000000
END:STANDARD
END:VTIMEZONE
BEGIN:VEVENT
DTSTART;TZID=America/Phoenix:20220917T120000
DTEND;TZID=America/Phoenix:20220917T160000
DTSTAMP:20260419T193212
CREATED:20220320T004527Z
LAST-MODIFIED:20220320T004527Z
UID:4142-1663416000-1663430400@
SUMMARY:Battle of the Badges Chili Cook-Off
DESCRIPTION:
URL:/event/battle-of-the-badges-chili-cook-off/
END:VEVENT
END:VCALENDAR