BEGIN:VCALENDAR
VERSION:2.0
PRODID:-//Alpine Arizona - ECPv5.5.0//NONSGML v1.0//EN
CALSCALE:GREGORIAN
METHOD:PUBLISH
X-WR-CALNAME:Alpine Arizona
X-ORIGINAL-URL:
X-WR-CALDESC:Events for Alpine Arizona
BEGIN:VTIMEZONE
TZID:America/Phoenix
BEGIN:STANDARD
TZOFFSETFROM:-0700
TZOFFSETTO:-0700
TZNAME:MST
DTSTART:20220101T000000
END:STANDARD
END:VTIMEZONE
BEGIN:VEVENT
DTSTART;VALUE=DATE:20220924
DTEND;VALUE=DATE:20220925
DTSTAMP:20260419T160620
CREATED:20220722T090458Z
LAST-MODIFIED:20220722T090458Z
UID:4172-1663977600-1664063999@
SUMMARY:Backwoods Music Festival
DESCRIPTION:
URL:/event/backwoods-music-festival/
LOCATION:Aspen Lodge
END:VEVENT
END:VCALENDAR