BEGIN:VCALENDAR
VERSION:2.0
PRODID:-//Alpine Arizona - ECPv5.5.0//NONSGML v1.0//EN
CALSCALE:GREGORIAN
METHOD:PUBLISH
X-WR-CALNAME:Alpine Arizona
X-ORIGINAL-URL:
X-WR-CALDESC:Events for Alpine Arizona
BEGIN:VTIMEZONE
TZID:America/Phoenix
BEGIN:STANDARD
TZOFFSETFROM:-0700
TZOFFSETTO:-0700
TZNAME:MST
DTSTART:20220101T000000
END:STANDARD
END:VTIMEZONE
BEGIN:VEVENT
DTSTART;VALUE=DATE:20220819
DTEND;VALUE=DATE:20220821
DTSTAMP:20260420T031503
CREATED:20220722T090940Z
LAST-MODIFIED:20220722T090940Z
UID:4181-1660867200-1661039999@
SUMMARY:Alpine Gem\, Mineral\, and Gold Show
DESCRIPTION:
URL:/event/alpine-gem-mineral-and-gold-show/
LOCATION:Alpine Community Center\, Alpine
END:VEVENT
END:VCALENDAR