BEGIN:VCALENDAR
VERSION:2.0
PRODID:-//Alpine Arizona - ECPv5.5.0//NONSGML v1.0//EN
CALSCALE:GREGORIAN
METHOD:PUBLISH
X-WR-CALNAME:Alpine Arizona
X-ORIGINAL-URL:
X-WR-CALDESC:Events for Alpine Arizona
BEGIN:VTIMEZONE
TZID:America/Phoenix
BEGIN:STANDARD
TZOFFSETFROM:-0700
TZOFFSETTO:-0700
TZNAME:MST
DTSTART:20220101T000000
END:STANDARD
END:VTIMEZONE
BEGIN:VEVENT
DTSTART;VALUE=DATE:20220611
DTEND;VALUE=DATE:20220612
DTSTAMP:20260421T142458
CREATED:20220320T003010Z
LAST-MODIFIED:20220320T003010Z
UID:4107-1654905600-1654991999@
SUMMARY:Alpine Fun Day
DESCRIPTION:
URL:/event/alpine-fun-day/
LOCATION:Mellody Field\, Main Street\, Alpine
END:VEVENT
END:VCALENDAR