BEGIN:VCALENDAR
VERSION:2.0
PRODID:-//Alpine Arizona - ECPv5.5.0//NONSGML v1.0//EN
CALSCALE:GREGORIAN
METHOD:PUBLISH
X-WR-CALNAME:Alpine Arizona
X-ORIGINAL-URL:
X-WR-CALDESC:Events for Alpine Arizona
BEGIN:VTIMEZONE
TZID:America/Phoenix
BEGIN:STANDARD
TZOFFSETFROM:-0700
TZOFFSETTO:-0700
TZNAME:MST
DTSTART:20220101T000000
END:STANDARD
END:VTIMEZONE
BEGIN:VEVENT
DTSTART;TZID=America/Phoenix:20220528T060000
DTEND;TZID=America/Phoenix:20220528T100000
DTSTAMP:20260421T193743
CREATED:20220320T002556Z
LAST-MODIFIED:20220320T002556Z
UID:4100-1653717600-1653732000@
SUMMARY:Alpine Fire District Pancake Breakfast
DESCRIPTION:
URL:/event/alpine-fire-district-pancake-breakfast-2/
LOCATION:Alpine Fire Department\, US Hwy 180\, Alpine
END:VEVENT
END:VCALENDAR