BEGIN:VCALENDAR
VERSION:2.0
PRODID:-//Alpine Arizona - ECPv5.5.0//NONSGML v1.0//EN
CALSCALE:GREGORIAN
METHOD:PUBLISH
X-WR-CALNAME:Alpine Arizona
X-ORIGINAL-URL:
X-WR-CALDESC:Events for Alpine Arizona
BEGIN:VTIMEZONE
TZID:America/Phoenix
BEGIN:STANDARD
TZOFFSETFROM:-0700
TZOFFSETTO:-0700
TZNAME:MST
DTSTART:20190101T000000
END:STANDARD
END:VTIMEZONE
BEGIN:VEVENT
DTSTART;TZID=America/Phoenix:20190831T080000
DTEND;TZID=America/Phoenix:20190831T140000
DTSTAMP:20260424T043347
CREATED:20190327T235715Z
LAST-MODIFIED:20190327T235715Z
UID:3481-1567238400-1567260000@
SUMMARY:Alpine Fire Department Bake Sale
DESCRIPTION:
URL:/event/alpine-fire-department-bake-sale-3/
LOCATION:Alpine Community Center\, Alpine
END:VEVENT
END:VCALENDAR