BEGIN:VCALENDAR
VERSION:2.0
PRODID:-//Alpine Arizona - ECPv5.5.0//NONSGML v1.0//EN
CALSCALE:GREGORIAN
METHOD:PUBLISH
X-WR-CALNAME:Alpine Arizona
X-ORIGINAL-URL:
X-WR-CALDESC:Events for Alpine Arizona
BEGIN:VTIMEZONE
TZID:America/Phoenix
BEGIN:STANDARD
TZOFFSETFROM:-0700
TZOFFSETTO:-0700
TZNAME:MST
DTSTART:20220101T000000
END:STANDARD
END:VTIMEZONE
BEGIN:VEVENT
DTSTART;TZID=America/Phoenix:20220618T100000
DTEND;TZID=America/Phoenix:20220618T220000
DTSTAMP:20260421T104723
CREATED:20220320T003135Z
LAST-MODIFIED:20220320T003135Z
UID:4111-1655546400-1655589600@
SUMMARY:Alpine Country Blues Festival
DESCRIPTION:
URL:/event/alpine-country-blues-festival-14/
LOCATION:Mellody Field\, Main Street\, Alpine
END:VEVENT
END:VCALENDAR