BEGIN:VCALENDAR
VERSION:2.0
PRODID:-//Alpine Arizona - ECPv5.5.0//NONSGML v1.0//EN
CALSCALE:GREGORIAN
METHOD:PUBLISH
X-WR-CALNAME:Alpine Arizona
X-ORIGINAL-URL:
X-WR-CALDESC:Events for Alpine Arizona
BEGIN:VTIMEZONE
TZID:America/Phoenix
BEGIN:STANDARD
TZOFFSETFROM:-0700
TZOFFSETTO:-0700
TZNAME:MST
DTSTART:20210101T000000
END:STANDARD
END:VTIMEZONE
BEGIN:VEVENT
DTSTART;TZID=America/Phoenix:20210619T103000
DTEND;TZID=America/Phoenix:20210619T210000
DTSTAMP:20260422T175227
CREATED:20210525T191324Z
LAST-MODIFIED:20210525T191324Z
UID:4071-1624098600-1624136400@
SUMMARY:Alpine Country Blues Festival
DESCRIPTION:
URL:/event/alpine-country-blues-festival-12/
LOCATION:Mellody Field\, Main Street\, Alpine
END:VEVENT
END:VCALENDAR