BEGIN:VCALENDAR
VERSION:2.0
PRODID:-//Alpine Arizona - ECPv5.5.0//NONSGML v1.0//EN
CALSCALE:GREGORIAN
METHOD:PUBLISH
X-WR-CALNAME:Alpine Arizona
X-ORIGINAL-URL:
X-WR-CALDESC:Events for Alpine Arizona
BEGIN:VTIMEZONE
TZID:America/Phoenix
BEGIN:STANDARD
TZOFFSETFROM:-0700
TZOFFSETTO:-0700
TZNAME:MST
DTSTART:20220101T000000
END:STANDARD
END:VTIMEZONE
BEGIN:VEVENT
DTSTART;TZID=America/Phoenix:20220528T090000
DTEND;TZID=America/Phoenix:20220528T160000
DTSTAMP:20260421T174941
CREATED:20220320T002748Z
LAST-MODIFIED:20220320T002748Z
UID:4102-1653728400-1653753600@
SUMMARY:Alpine Area Artisans Memorial Weekend Show & Sale
DESCRIPTION:
URL:/event/alpine-area-artisans-memorial-weekend-show-sale/
LOCATION:Main Street\, Alpine
END:VEVENT
END:VCALENDAR