BEGIN:VCALENDAR
VERSION:2.0
PRODID:-//Alpine Arizona - ECPv5.5.0//NONSGML v1.0//EN
CALSCALE:GREGORIAN
METHOD:PUBLISH
X-WR-CALNAME:Alpine Arizona
X-ORIGINAL-URL:
X-WR-CALDESC:Events for Alpine Arizona
BEGIN:VTIMEZONE
TZID:America/Phoenix
BEGIN:STANDARD
TZOFFSETFROM:-0700
TZOFFSETTO:-0700
TZNAME:MST
DTSTART:20210101T000000
END:STANDARD
END:VTIMEZONE
BEGIN:VEVENT
DTSTART;TZID=America/Phoenix:20210905T090000
DTEND;TZID=America/Phoenix:20210905T160000
DTSTAMP:20260422T042152
CREATED:20210525T190554Z
LAST-MODIFIED:20210525T190554Z
UID:4068-1630832400-1630857600@
SUMMARY:Alpine Area Artisans
DESCRIPTION:Paintings\, baskets\, jewelry\, beading\, weaving\, collages\, quilts\, photography\, clay\, pottery\, wood work\, amulets\, journals\, yarn art\, characters\, home decor & so much more. \nFree admission & free parking
URL:/event/alpine-area-artisans-6/
LOCATION:Mellody Field\, Main Street\, Alpine
END:VEVENT
END:VCALENDAR