BEGIN:VCALENDAR
VERSION:2.0
PRODID:-//Alpine Arizona - ECPv5.5.0//NONSGML v1.0//EN
CALSCALE:GREGORIAN
METHOD:PUBLISH
X-WR-CALNAME:Alpine Arizona
X-ORIGINAL-URL:
X-WR-CALDESC:Events for Alpine Arizona
BEGIN:VTIMEZONE
TZID:America/Phoenix
BEGIN:STANDARD
TZOFFSETFROM:-0700
TZOFFSETTO:-0700
TZNAME:MST
DTSTART:20230101T000000
END:STANDARD
END:VTIMEZONE
BEGIN:VEVENT
DTSTART;TZID=America/Phoenix:20230419T130000
DTEND;TZID=America/Phoenix:20230419T140000
DTSTAMP:20260419T095322
CREATED:20230331T014317Z
LAST-MODIFIED:20230331T014317Z
UID:4248-1681909200-1681912800@
SUMMARY:Alpine Alliance Meeting
DESCRIPTION:
URL:/event/alpine-alliance-meeting-5/
LOCATION:Alpine Library
END:VEVENT
END:VCALENDAR