BEGIN:VCALENDAR
VERSION:2.0
PRODID:-//Alpine Arizona - ECPv5.5.0//NONSGML v1.0//EN
CALSCALE:GREGORIAN
METHOD:PUBLISH
X-WR-CALNAME:Alpine Arizona
X-ORIGINAL-URL:
X-WR-CALDESC:Events for Alpine Arizona
BEGIN:VTIMEZONE
TZID:America/Phoenix
BEGIN:STANDARD
TZOFFSETFROM:-0700
TZOFFSETTO:-0700
TZNAME:MST
DTSTART:20210101T000000
END:STANDARD
END:VTIMEZONE
BEGIN:VEVENT
DTSTART;TZID=America/Phoenix:20210520T083000
DTEND;TZID=America/Phoenix:20210520T103000
DTSTAMP:20260423T043907
CREATED:20210508T070508Z
LAST-MODIFIED:20210508T070731Z
UID:4046-1621499400-1621506600@
SUMMARY:Alliance Adopt -A- Road Clean-Up
DESCRIPTION:Alliance Adopt -A- Road Clean-Up: This is set for Thursday\, May 20. Our road section is near Tal-Wi-Wi Lodge. All volunteers are asked to meet at the Alpine Community Center at 8:30 am. Please bring gloves; vests\, bags\, and pickers will be provided.
URL:/event/allian-adopt-a-road-clean-up/
LOCATION:Alpine Community Center\, Alpine
END:VEVENT
END:VCALENDAR