BEGIN:VCALENDAR
VERSION:2.0
PRODID:-//Alpine Arizona - ECPv5.5.0//NONSGML v1.0//EN
CALSCALE:GREGORIAN
METHOD:PUBLISH
X-WR-CALNAME:Alpine Arizona
X-ORIGINAL-URL:
X-WR-CALDESC:Events for Alpine Arizona
BEGIN:VTIMEZONE
TZID:America/Phoenix
BEGIN:STANDARD
TZOFFSETFROM:-0700
TZOFFSETTO:-0700
TZNAME:MST
DTSTART:20230101T000000
END:STANDARD
END:VTIMEZONE
BEGIN:VEVENT
DTSTART;TZID=America/Phoenix:20231031T130000
DTEND;TZID=America/Phoenix:20231031T140000
DTSTAMP:20260419T162649
CREATED:20231027T174359Z
LAST-MODIFIED:20231027T174528Z
UID:4299-1698757200-1698760800@
SUMMARY:Alpine Elementary School Trick or Treating
DESCRIPTION:The 56 Alpine Elementary School Goblins will be Trick or Treating down Main Street starting at 1:00pm. Our generous Alpine businesses will be sharing the treats. Keep an eye out and enjoy the fun as you travel through town. (Note: the event is for students from AES and their preschool siblings only.) More information is in the note below.
URL:/event/4299/
LOCATION:Main Street\, Alpine
END:VEVENT
END:VCALENDAR